BEGIN:VCALENDAR
VERSION:2.0
PRODID:-//#wine_passion - ECPv4.2.2//NONSGML v1.0//EN
CALSCALE:GREGORIAN
METHOD:PUBLISH
X-WR-CALNAME:#wine_passion
X-ORIGINAL-URL:http://blog.evinum.de
X-WR-CALDESC:Events for #wine_passion
BEGIN:VEVENT
DTSTART;TZID=Europe/Berlin:20151227T140000
DTEND;TZID=Europe/Berlin:20151227T140000
DTSTAMP:20260424T165314
CREATED:20151109T213433
LAST-MODIFIED:20151113T164832
UID:8628-1451224800-1451224800@blog.evinum.de
SUMMARY:5. Advent im Weingut Grober Feetz 
DESCRIPTION:Advent im Weingut Grober Feetz 
URL:http://blog.evinum.de/event/5-advent-im-weingut-grober-feetz/
LOCATION:Mühlstraße 32\, Freyburg\, Sachsen-Anhalt\, 06632\, Deutschland
GEO:51.20879;11.77162
X-APPLE-STRUCTURED-LOCATION;VALUE=URI;X-ADDRESS=Mühlstraße 32 Freyburg Sachsen-Anhalt 06632 Deutschland;X-APPLE-RADIUS=500;X-TITLE=Mühlstraße 32:geo:11.77162,51.20879
CATEGORIES:Adventsausstellung,Saale-Unstrut,Wein & Kulinarik,Wein & Musik,Weinausschank,Weingut
ATTACH;FMTTYPE=image/jpeg:http://blog.evinum.de/wp-content/uploads/2015/10/events_evinum_weihnachten_Honig_nuesse.jpg
ORGANIZER;CN="Weingut%20Grober%20Feetz%20":MAILTO:weinhaus-groberfeetz@web.de
END:VEVENT
END:VCALENDAR