BEGIN:VCALENDAR
VERSION:2.0
PRODID:-//#wine_passion - ECPv4.2.2//NONSGML v1.0//EN
CALSCALE:GREGORIAN
METHOD:PUBLISH
X-WR-CALNAME:#wine_passion
X-ORIGINAL-URL:http://blog.evinum.de
X-WR-CALDESC:Events for #wine_passion
BEGIN:VEVENT
DTSTART;TZID=Europe/Berlin:20160424T110000
DTEND;TZID=Europe/Berlin:20160424T110000
DTSTAMP:20260423T104352
CREATED:20160115T201629
LAST-MODIFIED:20160306T163958
UID:9113-1461495600-1461495600@blog.evinum.de
SUMMARY:"6 auf der Höhe" - 2. Meckenheimer WeinTestival
DESCRIPTION:Weinparcours durch die älteste Weinlage Meckenheims mit 6 Haltepunkten
URL:http://blog.evinum.de/event/6-auf-der-hoehe-2-meckenheimer-weintestival-2/
LOCATION:Meckenheim\, Rheinland-Pfalz\, 67149\, Deutschland
GEO:49.3927659;8.2358896
CATEGORIES:Pfalz,Weinevent,Weinfest,Weinspaziergang
ATTACH;FMTTYPE=image/jpeg:http://blog.evinum.de/wp-content/uploads/2014/09/760x325_pfalz.jpg
ORGANIZER;CN="Tourist-Information%20Deidesheim":MAILTO:touristinfo@deidesheim.de
END:VEVENT
END:VCALENDAR