BEGIN:VCALENDAR
VERSION:2.0
PRODID:-//#wine_passion - ECPv4.2.2//NONSGML v1.0//EN
CALSCALE:GREGORIAN
METHOD:PUBLISH
X-WR-CALNAME:#wine_passion
X-ORIGINAL-URL:http://blog.evinum.de
X-WR-CALDESC:Events for #wine_passion
BEGIN:VEVENT
DTSTART;TZID=Europe/Berlin:20150501T100000
DTEND;TZID=Europe/Berlin:20150501T180000
DTSTAMP:20260421T173721
CREATED:20150323T185914
LAST-MODIFIED:20150520T194352
UID:2972-1430474400-1430503200@blog.evinum.de
SUMMARY:Anradeln auf der Weinroute an der Weißen Elster bei Zeitz
DESCRIPTION:Die Elster-Winzer laden zur geführten Radwanderung. Start: Weinhof Kloster Posa\, über Zeitz nach Salsitz (ca. 18 km) ein.
URL:http://blog.evinum.de/event/anradeln-auf-der-weinroute-an-der-weissen-elster-bei-zeitz/
LOCATION:Lieser \, Rheinland-Pfalz\, 54470\, Deutschland
CATEGORIES:Saale-Unstrut
ATTACH;FMTTYPE=image/jpeg:http://blog.evinum.de/wp-content/uploads/2015/05/events_evinum_fahrradtour1.jpg
ORGANIZER;CN="Weinbauverband%20Saale-Unstrut":MAILTO:info@weinbauverband-saale-unstrut.de
END:VEVENT
END:VCALENDAR