BEGIN:VCALENDAR
VERSION:2.0
PRODID:-//#wine_passion - ECPv4.2.2//NONSGML v1.0//EN
CALSCALE:GREGORIAN
METHOD:PUBLISH
X-WR-CALNAME:#wine_passion
X-ORIGINAL-URL:http://blog.evinum.de
X-WR-CALDESC:Events for #wine_passion
BEGIN:VEVENT
DTSTART;VALUE=DATE:20150710
DTEND;VALUE=DATE:20150712
DTSTAMP:20260421T105055
CREATED:20150621
LAST-MODIFIED:20150624
UID:4962-1436486400-1436745599@blog.evinum.de
SUMMARY:Bachgassenfest
DESCRIPTION:Zum Auerbacher Bachgassenfest wird im Bensheimer Ortsteil Auerbach in zahlreichen Höfen und Gärten gefeiert. Neben musikalischer Unterhaltung mit Livemusik und Bewirtung gibt es auch ein Kinderprogramm sowie Aktionen wie Familienolympiade\, Sportveranstaltungen und Bachregatta. Der verkaufsoffene Sonntag rundet das Bachgassenfest in Auerbach bei Bensheim an der Bergstraße ab.
URL:http://blog.evinum.de/event/bachgassenfest/
LOCATION:Bensheim-Auerbach\, Hessen\, 64625\, Deutschland
CATEGORIES:Hessische Bergstraße,Wein & Kulinarik,Wein & Musik,Weinausschank,Weinfest,Weingüter,Weinverkostung,Winzerhöfe,Winzerkeller
ATTACH;FMTTYPE=image/jpeg:http://blog.evinum.de/wp-content/uploads/2015/05/events_evinum_mohnblumen.jpg
ORGANIZER;CN="Weinbauverband%20Hessische%20Bergstra%C3%9Fe":MAILTO:info@bergstraesser-wein.de
END:VEVENT
END:VCALENDAR