BEGIN:VCALENDAR
VERSION:2.0
PRODID:-//#wine_passion - ECPv4.2.2//NONSGML v1.0//EN
CALSCALE:GREGORIAN
METHOD:PUBLISH
X-WR-CALNAME:#wine_passion
X-ORIGINAL-URL:http://blog.evinum.de
X-WR-CALDESC:Events for #wine_passion
BEGIN:VEVENT
DTSTART;TZID=Europe/Berlin:20150829T140000
DTEND;TZID=Europe/Berlin:20150906T020000
DTSTAMP:20260422T120815
CREATED:20150821T123137
LAST-MODIFIED:20150826T153129
UID:7246-1440856800-1441504800@blog.evinum.de
SUMMARY:Backfischfest in Worms
DESCRIPTION:Größtes Volks- und Weinfest am Rhein. Mit Umzug und Feuerwerk. Weinzelt Wonnegauer Weinkeller. www.wonnegauerweinkeller.de. Weinprobe "Hagens Weinschatz".
URL:http://blog.evinum.de/event/backfischfest-in-worms/
LOCATION:Kisselswiese\, Worms\, Rheinland-Pfalz\, 67549\, Deutschland
GEO:49.6327078;8.3194956
X-APPLE-STRUCTURED-LOCATION;VALUE=URI;X-ADDRESS=Kisselswiese Worms Rheinland-Pfalz 67549 Deutschland;X-APPLE-RADIUS=500;X-TITLE=Kisselswiese:geo:8.3194956,49.6327078
CATEGORIES:Rheinhessen,Wein & Kulinarik,Wein & Musik,Weinausschank,Weinfest
ATTACH;FMTTYPE=image/jpeg:http://blog.evinum.de/wp-content/uploads/2015/05/events_evinum_feuerwerk2.jpg
ORGANIZER;CN="Kultur-%20und%20Veranstaltungs%20GmbH%20Worms":MAILTO:xenia.schandin@kgv-worms.de
END:VEVENT
END:VCALENDAR