BEGIN:VCALENDAR
VERSION:2.0
PRODID:-//#wine_passion - ECPv4.2.2//NONSGML v1.0//EN
CALSCALE:GREGORIAN
METHOD:PUBLISH
X-WR-CALNAME:#wine_passion
X-ORIGINAL-URL:http://blog.evinum.de
X-WR-CALDESC:Events for #wine_passion
BEGIN:VEVENT
DTSTART;TZID=Europe/Berlin:20160303T190000
DTEND;TZID=Europe/Berlin:20160303T200000
DTSTAMP:20260422T090937
CREATED:20160122T153304
LAST-MODIFIED:20160229T151000
UID:9637-1457031600-1457035200@blog.evinum.de
SUMMARY:Bingen und der Rhein in der WeinZeit Bingen
DESCRIPTION:Diesmal mit Weingut Gunderloch\, Nackenheim. An jedem 1. Donnerstag im Monat stellt ein von uns ausgewählter Winzer sich\, seine Region\, seine Philosophie\, und natürlich das Ergebnis dessen – seine Weine vor. Die präsentierten Weine halten wir dann einen Monat im offenen Ausschank für Sie bereit. Anmeldung erbeten.
URL:http://blog.evinum.de/event/bingen-und-der-rhein-in-der-weinzeit-bingen/
LOCATION:Hindenburganlage 2\, Bingen\, Rheinland-Pfalz\, 55411\, Deutschland
GEO:49.9701445;7.8985861
X-APPLE-STRUCTURED-LOCATION;VALUE=URI;X-ADDRESS=Hindenburganlage 2 Bingen Rheinland-Pfalz 55411 Deutschland;X-APPLE-RADIUS=500;X-TITLE=Hindenburganlage 2:geo:7.8985861,49.9701445
CATEGORIES:Rheinhessen,Weinausschank,Weinevent,Weingut,Weingüter,Weinprobe,Weinverkostung
ATTACH;FMTTYPE=image/jpeg:http://blog.evinum.de/wp-content/uploads/2015/05/events_evinum_mohnblumen.jpg
ORGANIZER;CN="WeinZeit%20in%20der%20Vinothek":MAILTO:service@weinzeit-bingen.de
END:VEVENT
END:VCALENDAR