BEGIN:VCALENDAR
VERSION:2.0
PRODID:-//#wine_passion - ECPv4.2.2//NONSGML v1.0//EN
CALSCALE:GREGORIAN
METHOD:PUBLISH
X-WR-CALNAME:#wine_passion
X-ORIGINAL-URL:http://blog.evinum.de
X-WR-CALDESC:Events for #wine_passion
BEGIN:VEVENT
DTSTART;TZID=Europe/Berlin:20150830T100000
DTEND;TZID=Europe/Berlin:20150830T180000
DTSTAMP:20260425T122425
CREATED:20150723T142601
LAST-MODIFIED:20150828T183410
UID:6828-1440928800-1440957600@blog.evinum.de
SUMMARY:Erlebnistag Deutsche Weinstraße
DESCRIPTION:Mit zahlreichen Veranstaltungen entlang der autofreien Deutschen Weinstraße und mehr als 250.000 Besuchern.\n\nMit dem 30. Erlebnistag Deutsche Weinstraße steht 2015 ein großes Jubiläum an. Mit einem gewissen Prickeln lockt der diesjährige Erlebnistag: Zur Jubiläumveranstaltung steht besonders der Sekt aus der Pfalz im Mittelpunkt\, das Motto lautet demgemäß: »Die Pfalz läßt die Korken knallen«. Deutschlands älteste Weintouristik-Route wird wie gewohnt von 10.00 bis 18.00 Uhr für den motorisierten Verkehr gesperrt. Die Strecke von Bockenheim im Norden bis Schweigen an der französischen Grenze gehört dann den Radfahrern\, Inline-Skatern und Schoppenbummlern. Die Pfalzwein-Werbung\, die gemeinsam mit den Weinstraßen-Gemeinden das längste Weinfest der Pfalz veranstaltet\, erwartet etwa 250.000 bis 300.000 Besucher.
URL:http://blog.evinum.de/event/erlebnistag-deutsche-weinstrasse/
LOCATION:Neustadt\, Rheinland-Pfalz\, 67833\, Deutschland
CATEGORIES:Pfalz,Wein & Kulinarik,Wein & Musik,Weinausschank,Weinevent
ATTACH;FMTTYPE=image/jpeg:http://blog.evinum.de/wp-content/uploads/2015/07/events_evinum_fahrradtour_family.jpg
ORGANIZER;CN="Pfalzwein%20e.V.":MAILTO:info@pfalz.de
END:VEVENT
END:VCALENDAR