BEGIN:VCALENDAR
VERSION:2.0
PRODID:-//#wine_passion - ECPv4.2.2//NONSGML v1.0//EN
CALSCALE:GREGORIAN
METHOD:PUBLISH
X-WR-CALNAME:#wine_passion
X-ORIGINAL-URL:http://blog.evinum.de
X-WR-CALDESC:Events for #wine_passion
BEGIN:VEVENT
DTSTART;VALUE=DATE:20150710
DTEND;VALUE=DATE:20150712
DTSTAMP:20260421T123739
CREATED:20150621
LAST-MODIFIED:20150624
UID:4953-1436486400-1436745599@blog.evinum.de
SUMMARY:Eselshautfest
DESCRIPTION:Pfälzer Köstlichkeiten\, Schorle und Livemusik erwartet Sie im Herrenhof Mussbach
URL:http://blog.evinum.de/event/eselshautfest-2/
LOCATION:An der Eselshaut 18\, Neustadt-Mußbach \, Rheinland-Pfalz\, 67435\, Deutschland
GEO:49.36886;8.16894
X-APPLE-STRUCTURED-LOCATION;VALUE=URI;X-ADDRESS=An der Eselshaut 18 Neustadt-Mußbach  Rheinland-Pfalz 67435 Deutschland;X-APPLE-RADIUS=500;X-TITLE=An der Eselshaut 18:geo:8.16894,49.36886
CATEGORIES:Hoffest,Pfalz,Wein & Kulinarik,Wein & Musik,Weinfest,Weingüter
ATTACH;FMTTYPE=image/jpeg:http://blog.evinum.de/wp-content/uploads/2014/10/sonnenhuttyp_08111.jpg
ORGANIZER;CN="Tourist%20Information%20Neustadt":MAILTO:touristinfo@neustadt.pfalz.com
END:VEVENT
END:VCALENDAR