BEGIN:VCALENDAR
VERSION:2.0
PRODID:-//#wine_passion - ECPv4.2.2//NONSGML v1.0//EN
CALSCALE:GREGORIAN
METHOD:PUBLISH
X-WR-CALNAME:#wine_passion
X-ORIGINAL-URL:http://blog.evinum.de
X-WR-CALDESC:Events for #wine_passion
BEGIN:VEVENT
DTSTART;TZID=Europe/Berlin:20150801T180000
DTEND;TZID=Europe/Berlin:20150801T180000
DTSTAMP:20260423T090355
CREATED:20150702T140100
LAST-MODIFIED:20150731T131016
UID:6384-1438452000-1438452000@blog.evinum.de
SUMMARY:Ettenheimer Weinparty
DESCRIPTION:Weingala\, Ball\, Party u.a.
URL:http://blog.evinum.de/event/ettenheimer-weinparty-2/
LOCATION:Ettenheim \, Baden-Württemberg\, 77955\, Deutschland
CATEGORIES:Baden,Wein & Kulinarik,Wein & Musik,Weinevent,Weinparty
ATTACH;FMTTYPE=image/jpeg:http://blog.evinum.de/wp-content/uploads/2015/05/events_evinum_party_anstossen.jpg
ORGANIZER;CN="Stadtverwaltung%20Ettenheim%20Touristservice":MAILTO:tourist-info@ettenheim.de
END:VEVENT
END:VCALENDAR