BEGIN:VCALENDAR
VERSION:2.0
PRODID:-//#wine_passion - ECPv4.2.2//NONSGML v1.0//EN
CALSCALE:GREGORIAN
METHOD:PUBLISH
X-WR-CALNAME:#wine_passion
X-ORIGINAL-URL:http://blog.evinum.de
X-WR-CALDESC:Events for #wine_passion
BEGIN:VEVENT
DTSTART;TZID=Europe/Berlin:20151009T130000
DTEND;TZID=Europe/Berlin:20151009T190000
DTSTAMP:20260419T193144
CREATED:20150929T200800
LAST-MODIFIED:20151011T133557
UID:7771-1444395600-1444417200@blog.evinum.de
SUMMARY:Foodfestival eat & style Hamburg
DESCRIPTION:Die Besucher erwartet ein vielfältiges Programm aus interaktiven Workshops\, Liveshows und speziellen Themenwelten\, die sich aktuellen und künftigen Kulinariktrends widmen. Gourmet- und Genussfreunde sind zum Probieren\, Einkaufen und Mitmachen eingeladen. Mit Stand des Deutschen Weininstituts wine & style. Schuppen52
URL:http://blog.evinum.de/event/foodfestival-eat-style-hamburg/
LOCATION:Australiastraße 52b\, Hamburg \, Hamburg \, 20457\, Deutschland
GEO:53.5300595;9.9958314
X-APPLE-STRUCTURED-LOCATION;VALUE=URI;X-ADDRESS=Australiastraße 52b Hamburg  Hamburg  20457 Deutschland;X-APPLE-RADIUS=500;X-TITLE=Australiastraße 52b:geo:9.9958314,53.5300595
CATEGORIES:Außerhalb der Weinbaugebiete,Wein & Kulinarik,Weinverkostung
ATTACH;FMTTYPE=image/jpeg:http://blog.evinum.de/wp-content/uploads/2015/03/events_evinum_glaeser_canapees.jpg
ORGANIZER;CN="Fleet%20Events%20GmbH":MAILTO:info@fleet-events.de
END:VEVENT
END:VCALENDAR