BEGIN:VCALENDAR
VERSION:2.0
PRODID:-//#wine_passion - ECPv4.2.2//NONSGML v1.0//EN
CALSCALE:GREGORIAN
METHOD:PUBLISH
X-WR-CALNAME:#wine_passion
X-ORIGINAL-URL:http://blog.evinum.de
X-WR-CALDESC:Events for #wine_passion
BEGIN:VEVENT
DTSTART;VALUE=DATE:20150821
DTEND;VALUE=DATE:20150823
DTSTAMP:20260419T161014
CREATED:20150723
LAST-MODIFIED:20150820
UID:7065-1440115200-1440374399@blog.evinum.de
SUMMARY:Fröhliche Weinstraße "Spielestraße"
DESCRIPTION:Weinfeste und Hoffeste
URL:http://blog.evinum.de/event/froehliche-weinstrasse-spielestrasse/
LOCATION:Dorfplatz/Innenstadt\, Trittenheim\, Rheinland-Pfalz\, 54349\, Deutschland
GEO:49.8175998;6.9187945
X-APPLE-STRUCTURED-LOCATION;VALUE=URI;X-ADDRESS=Dorfplatz/Innenstadt Trittenheim Rheinland-Pfalz 54349 Deutschland;X-APPLE-RADIUS=500;X-TITLE=Dorfplatz/Innenstadt:geo:6.9187945,49.8175998
CATEGORIES:Mosel,Wein & Kulinarik,Wein & Musik,Weinausschank,Weinevent,Weinfest
ATTACH;FMTTYPE=image/jpeg:http://blog.evinum.de/wp-content/uploads/2015/07/events_evinum_trauben_juli3.jpg
ORGANIZER;CN="Tourist-Information%20R%C3%B6mische%20Weinstrasse":MAILTO:conrad@touristinfo-schweich.de
END:VEVENT
END:VCALENDAR