BEGIN:VCALENDAR
VERSION:2.0
PRODID:-//#wine_passion - ECPv4.2.2//NONSGML v1.0//EN
CALSCALE:GREGORIAN
METHOD:PUBLISH
X-WR-CALNAME:#wine_passion
X-ORIGINAL-URL:http://blog.evinum.de
X-WR-CALDESC:Events for #wine_passion
BEGIN:VEVENT
DTSTART;VALUE=DATE:20150327
DTEND;VALUE=DATE:20150329
DTSTAMP:20260420T143420
CREATED:20150226
LAST-MODIFIED:20150327
UID:2309-1427414400-1427673599@blog.evinum.de
SUMMARY:Genießer-Radwochenend-Arrangement
DESCRIPTION:Parkhotel\, mit geführten Rad- oder E-Biketouren und Weinverkostung.
URL:http://blog.evinum.de/event/geniesser-radwochenend-arrangement/
LOCATION:Mahlastraße 1\, Landau\, Rheinland-Pfalz\, 76829\, Deutschland
CATEGORIES:Pfalz,Weinreise,Weinwanderung
ATTACH;FMTTYPE=image/jpeg:http://blog.evinum.de/wp-content/uploads/2015/02/events_evinum_weinberge_wanderung.jpg
ORGANIZER;CN="Genussradeln%20Pfalz%2C%20Norbert%20Arend":MAILTO:info@genussradeln-pfalz.de
END:VEVENT
END:VCALENDAR