BEGIN:VCALENDAR
VERSION:2.0
PRODID:-//#wine_passion - ECPv4.2.2//NONSGML v1.0//EN
CALSCALE:GREGORIAN
METHOD:PUBLISH
X-WR-CALNAME:#wine_passion
X-ORIGINAL-URL:http://blog.evinum.de
X-WR-CALDESC:Events for #wine_passion
BEGIN:VEVENT
DTSTART;VALUE=DATE:20150522
DTEND;VALUE=DATE:20150522
DTSTAMP:20260421T173225
CREATED:20150323
LAST-MODIFIED:20150507
UID:3255-1432252800-1432339199@blog.evinum.de
SUMMARY:Genuss in den Reben Weinprobe am Bammerthäusle
DESCRIPTION:Unter weinfachlicher Leitung verkosten die Teilnehmer jeweils vier verschiedene Weine. Dabei erfahren sie am rebbotanischen Schaugarten\, dem sogenannten Gutedelgarten\, Wissenswertes über den Weinbau und die Weinbautradition in Baden\, insbesondere im Markgräflerland.
URL:http://blog.evinum.de/event/genuss-in-den-reben-weinprobe-am-bammerthaeusle-4/
LOCATION:ehemaliges Rebwächterhäuschen unterhalb der Burg\, Badenweiler\, Baden-Württemberg\, 79410\, Deutschland
GEO:47.8009576;7.6843095
X-APPLE-STRUCTURED-LOCATION;VALUE=URI;X-ADDRESS=ehemaliges Rebwächterhäuschen unterhalb der Burg Badenweiler Baden-Württemberg 79410 Deutschland;X-APPLE-RADIUS=500;X-TITLE=ehemaliges Rebwächterhäuschen unterhalb der Burg:geo:7.6843095,47.8009576
CATEGORIES:Baden,Weinevent,Weinprobe
ATTACH;FMTTYPE=image/jpeg:http://blog.evinum.de/wp-content/uploads/2015/02/events_evinum_fest_daemmerung.jpg
ORGANIZER;CN="Badenweiler%20Thermen%20%26%20Touristik%20GmbH":MAILTO:touristik@badenweiler.de
END:VEVENT
END:VCALENDAR