BEGIN:VCALENDAR
VERSION:2.0
PRODID:-//#wine_passion - ECPv4.2.2//NONSGML v1.0//EN
CALSCALE:GREGORIAN
METHOD:PUBLISH
X-WR-CALNAME:#wine_passion
X-ORIGINAL-URL:http://blog.evinum.de
X-WR-CALDESC:Events for #wine_passion
BEGIN:VEVENT
DTSTART;VALUE=DATE:20150812
DTEND;VALUE=DATE:20150816
DTSTAMP:20260421T082709
CREATED:20150702
LAST-MODIFIED:20150805
UID:6464-1439337600-1439769599@blog.evinum.de
SUMMARY:Genusstour in Wein-Franken
DESCRIPTION:Weinreisen
URL:http://blog.evinum.de/event/genusstour-in-wein-franken-4/
LOCATION:auf Anfrage\, Dettelbach\, Bayern\, 97337\, Deutschland
GEO:49.8120999;10.1309869
X-APPLE-STRUCTURED-LOCATION;VALUE=URI;X-ADDRESS=auf Anfrage Dettelbach Bayern 97337 Deutschland;X-APPLE-RADIUS=500;X-TITLE=auf Anfrage:geo:10.1309869,49.8120999
CATEGORIES:Franken,Wein & Kultur,Weinevent
ATTACH;FMTTYPE=image/jpeg:http://blog.evinum.de/wp-content/uploads/2015/07/events_evinum_fahrradtour_family.jpg
ORGANIZER;CN="WeinWanderungen%20Jeanet%20G.%20Bruining":MAILTO:info@weinwanderungen.org
END:VEVENT
END:VCALENDAR