BEGIN:VCALENDAR
VERSION:2.0
PRODID:-//#wine_passion - ECPv4.2.2//NONSGML v1.0//EN
CALSCALE:GREGORIAN
METHOD:PUBLISH
X-WR-CALNAME:#wine_passion
X-ORIGINAL-URL:http://blog.evinum.de
X-WR-CALDESC:Events for #wine_passion
BEGIN:VEVENT
DTSTART;TZID=Europe/Berlin:20150425T140000
DTEND;TZID=Europe/Berlin:20150426T000000
DTSTAMP:20260423T090427
CREATED:20150226T180449
LAST-MODIFIED:20150416T182922
UID:2485-1429970400-1430006400@blog.evinum.de
SUMMARY:Geologie und Böden
DESCRIPTION:Mit Terroirweinprobe.
URL:http://blog.evinum.de/event/geologie-und-boeden/
LOCATION:Lieser \, Rheinland-Pfalz\, 54470\, Deutschland
CATEGORIES:Nahe
ATTACH;FMTTYPE=image/jpeg:http://blog.evinum.de/wp-content/uploads/2014/10/weintrauben_impressionen_031014.jpg
ORGANIZER;CN="Kultur-%20und%20Weinbotschafter%20Nahe%20e.V.":MAILTO:info@kultur-und-weinbotschafter-nahe.de
END:VEVENT
END:VCALENDAR