BEGIN:VCALENDAR
VERSION:2.0
PRODID:-//#wine_passion - ECPv4.2.2//NONSGML v1.0//EN
CALSCALE:GREGORIAN
METHOD:PUBLISH
X-WR-CALNAME:#wine_passion
X-ORIGINAL-URL:http://blog.evinum.de
X-WR-CALDESC:Events for #wine_passion
BEGIN:VEVENT
DTSTART;TZID=Europe/Berlin:20150516T140000
DTEND;TZID=Europe/Berlin:20150516T150000
DTSTAMP:20260425T172937
CREATED:20150323T190113
LAST-MODIFIED:20150507T142338
UID:3192-1431784800-1431788400@blog.evinum.de
SUMMARY:Hammelburger Weinkultur am Marktbrunnen
DESCRIPTION:In Hammelburg erwartet Sie eine Reise der Hammelburger Weinkultur in einen Winzerbetrieb oder eine Vinothek zu einer Weinprobe.
URL:http://blog.evinum.de/event/hammelburger-weinkultur-am-marktbrunnen-2/
LOCATION:Am Marktplatz 1\, Hammelburg\, Bayern\, 97762\, Deutschland
GEO:50.114788;9.8903923
X-APPLE-STRUCTURED-LOCATION;VALUE=URI;X-ADDRESS=Am Marktplatz 1 Hammelburg Bayern 97762 Deutschland;X-APPLE-RADIUS=500;X-TITLE=Am Marktplatz 1:geo:9.8903923,50.114788
CATEGORIES:Franken,Vinothek,Weinevent,Weinverkostung
ATTACH;FMTTYPE=image/jpeg:http://blog.evinum.de/wp-content/uploads/2015/04/events_evinum_strassenfest.jpg
ORGANIZER;CN="Frankens%20Saalest%C3%BCck":MAILTO:info@frankens-saalestueck.de
END:VEVENT
END:VCALENDAR