BEGIN:VCALENDAR
VERSION:2.0
PRODID:-//#wine_passion - ECPv4.2.2//NONSGML v1.0//EN
CALSCALE:GREGORIAN
METHOD:PUBLISH
X-WR-CALNAME:#wine_passion
X-ORIGINAL-URL:http://blog.evinum.de
X-WR-CALDESC:Events for #wine_passion
BEGIN:VEVENT
DTSTART;TZID=Europe/Berlin:20151024T143000
DTEND;TZID=Europe/Berlin:20151024T143000
DTSTAMP:20260423T090256
CREATED:20150929T200808
LAST-MODIFIED:20151019T145222
UID:7873-1445697000-1445697000@blog.evinum.de
SUMMARY:Hammelburger Weinschätze
DESCRIPTION:Weinproben\, Kultur- und Weinbotschafter
URL:http://blog.evinum.de/event/hammelburger-weinschaetze/
LOCATION:auf Anfrage\, Hammelburg\, Bayern\, 97762\, Deutschland
GEO:50.1140788;9.8742434
X-APPLE-STRUCTURED-LOCATION;VALUE=URI;X-ADDRESS=auf Anfrage Hammelburg Bayern 97762 Deutschland;X-APPLE-RADIUS=500;X-TITLE=auf Anfrage:geo:9.8742434,50.1140788
CATEGORIES:Franken,Kultur- und Weinbotschafter,Wein & Kultur,Weinevent,Weinprobe
ATTACH;FMTTYPE=image/jpeg:http://blog.evinum.de/wp-content/uploads/2015/10/events_evinum_trauben_herbst2.jpg
ORGANIZER;CN="Frankens%20Saalest%C3%BCck":MAILTO:info@frankens-saalestueck.de
END:VEVENT
END:VCALENDAR