BEGIN:VCALENDAR
VERSION:2.0
PRODID:-//#wine_passion - ECPv4.2.2//NONSGML v1.0//EN
CALSCALE:GREGORIAN
METHOD:PUBLISH
X-WR-CALNAME:#wine_passion
X-ORIGINAL-URL:http://blog.evinum.de
X-WR-CALDESC:Events for #wine_passion
BEGIN:VEVENT
DTSTART;TZID=Europe/Berlin:20151204T190000
DTEND;TZID=Europe/Berlin:20151204T190000
DTSTAMP:20260424T080245
CREATED:20151022T153407
LAST-MODIFIED:20151106T172523
UID:8375-1449255600-1449255600@blog.evinum.de
SUMMARY:Heitere Lyrik in der Bergsträßer Winzer eG in in Heppenheim
DESCRIPTION:Lyrischer Abend mit Ulrich Späh\, begleitet von leckeren Weinen. 12\,- € p.P.\, Anmeldung erforderlich.
URL:http://blog.evinum.de/event/heitere-lyrik-in-der-bergstraesser-winzer-eg-in-in-heppenheim/
LOCATION:Darmstädter Straße 56\, Heppenheim\, Hessen\, 64646 \, Deutschland
GEO:49.64821;8.63787
X-APPLE-STRUCTURED-LOCATION;VALUE=URI;X-ADDRESS=Darmstädter Straße 56 Heppenheim Hessen 64646  Deutschland;X-APPLE-RADIUS=500;X-TITLE=Darmstädter Straße 56:geo:8.63787,49.64821
CATEGORIES:Hessische Bergstraße,Wein & Geschichte,Wein & Kultur,Weinevent
ATTACH;FMTTYPE=image/jpeg:http://blog.evinum.de/wp-content/uploads/2015/03/events_evinum_lesung2.jpg
ORGANIZER;CN="Bergstr%C3%A4%C3%9Fer%20Winzer%20eG":MAILTO:info@BWeG.de
END:VEVENT
END:VCALENDAR