BEGIN:VCALENDAR
VERSION:2.0
PRODID:-//#wine_passion - ECPv4.2.2//NONSGML v1.0//EN
CALSCALE:GREGORIAN
METHOD:PUBLISH
X-WR-CALNAME:#wine_passion
X-ORIGINAL-URL:http://blog.evinum.de
X-WR-CALDESC:Events for #wine_passion
BEGIN:VEVENT
DTSTART;TZID=Europe/Berlin:20150925T170000
DTEND;TZID=Europe/Berlin:20150927T000000
DTSTAMP:20260421T082853
CREATED:20150723T142621
LAST-MODIFIED:20150922T143028
UID:7075-1443200400-1443312000@blog.evinum.de
SUMMARY:Hof- und Scheunenfest im Weingut A. Fesel
DESCRIPTION:Weinfeste und Hoffeste Sonntag ab 11:30 Uhr Unterhaltungstag Livemusik ab 15:00 Uhr
URL:http://blog.evinum.de/event/hof-und-scheunenfest-im-weingut-a-fesel/
LOCATION:Hinterer Kirchbergweg 6\, Würzburg\, Bayern\, 97076\, Deutschland
CATEGORIES:Franken,Hoffest,Wein & Kulinarik,Wein & Musik,Weinausschank,Weinfest
ATTACH;FMTTYPE=image/jpeg:http://blog.evinum.de/wp-content/uploads/2015/05/events_evinum_bollerwagen.jpg
ORGANIZER;CN="Frankenwein-Frankenland%20GmbH":MAILTO:kontakt@haus-des-frankenweins.de
END:VEVENT
END:VCALENDAR