BEGIN:VCALENDAR
VERSION:2.0
PRODID:-//#wine_passion - ECPv4.2.2//NONSGML v1.0//EN
CALSCALE:GREGORIAN
METHOD:PUBLISH
X-WR-CALNAME:#wine_passion
X-ORIGINAL-URL:http://blog.evinum.de
X-WR-CALDESC:Events for #wine_passion
BEGIN:VEVENT
DTSTART;VALUE=DATE:20150814
DTEND;VALUE=DATE:20150818
DTSTAMP:20260422T090901
CREATED:20150702
LAST-MODIFIED:20150815
UID:6478-1439510400-1439942399@blog.evinum.de
SUMMARY:Hofschoppenfest im Winzerhof K.H. Düll
DESCRIPTION:Weinfeste und Hoffeste
URL:http://blog.evinum.de/event/hofschoppenfest-im-winzerhof-k-h-duell-4/
LOCATION:Köhlerstraße 5\, Neuses am Berg \, Bayern\, 97337\, Deutschland
GEO:49.8288187;10.1752092
X-APPLE-STRUCTURED-LOCATION;VALUE=URI;X-ADDRESS=Köhlerstraße 5 Neuses am Berg  Bayern 97337 Deutschland;X-APPLE-RADIUS=500;X-TITLE=Köhlerstraße 5:geo:10.1752092,49.8288187
CATEGORIES:Franken,Hoffest,Winzerfest,Winzergenossenschaft,Winzerhöfe
ATTACH;FMTTYPE=image/jpeg:http://blog.evinum.de/wp-content/uploads/2015/07/events_evinum_weinfest3.jpg
ORGANIZER;CN="Frankenwein-Frankenland%20GmbH":MAILTO:kontakt@haus-des-frankenweins.de
END:VEVENT
END:VCALENDAR