BEGIN:VCALENDAR
VERSION:2.0
PRODID:-//#wine_passion - ECPv4.2.2//NONSGML v1.0//EN
CALSCALE:GREGORIAN
METHOD:PUBLISH
X-WR-CALNAME:#wine_passion
X-ORIGINAL-URL:http://blog.evinum.de
X-WR-CALDESC:Events for #wine_passion
BEGIN:VEVENT
DTSTART;VALUE=DATE:20150710
DTEND;VALUE=DATE:20150710
DTSTAMP:20260419T220721
CREATED:20150428
LAST-MODIFIED:20150624
UID:4306-1436486400-1436572799@blog.evinum.de
SUMMARY:Jill Morriss & HusBand
DESCRIPTION:Messen & Events im Gewölbesaal der Winzergenossenschaft Baden-Baden
URL:http://blog.evinum.de/event/jill-morriss-husband/
LOCATION:Mauerbergstr. 32\, Baden-Baden\, Baden-Württemberg\, 76534\, Deutschland
GEO:48.72338;8.1775
X-APPLE-STRUCTURED-LOCATION;VALUE=URI;X-ADDRESS=Mauerbergstr. 32 Baden-Baden Baden-Württemberg 76534 Deutschland;X-APPLE-RADIUS=500;X-TITLE=Mauerbergstr. 32:geo:8.1775,48.72338
CATEGORIES:Baden,Weinevent,Weinpräsentation,Weinverkostung,Winzergenossenschaft,Winzerkeller,Winzerverein
ATTACH;FMTTYPE=image/jpeg:http://blog.evinum.de/wp-content/uploads/2015/05/events_evinum_weinkeller_flaschen.jpg
ORGANIZER;CN="Badischer%20Wein%20GmbH":MAILTO:info@badischerwein.de
END:VEVENT
END:VCALENDAR