BEGIN:VCALENDAR
VERSION:2.0
PRODID:-//#wine_passion - ECPv4.2.2//NONSGML v1.0//EN
CALSCALE:GREGORIAN
METHOD:PUBLISH
X-WR-CALNAME:#wine_passion
X-ORIGINAL-URL:http://blog.evinum.de
X-WR-CALDESC:Events for #wine_passion
BEGIN:VEVENT
DTSTART;TZID=Europe/Berlin:20160409T130000
DTEND;TZID=Europe/Berlin:20160409T130000
DTSTAMP:20260421T142915
CREATED:20160122T112215
LAST-MODIFIED:20160226T180200
UID:9558-1460206800-1460206800@blog.evinum.de
SUMMARY:Jungweinprobe Weingut Thürkind
DESCRIPTION:Fruchtig frische Weine des Jahrganges 2011 präsentiert Ihnen die Winzerfamilie Thürkind im schönen Innenhof des Weingutes. Neben leckerem Saale-Unstrut Wein können Sie in einer kleinen Sonderausstellung mit dem Thema “kleine originelle Ausstattungsideen für Speis und Trank” die Designobjekte der Studenten der Kunsthochschule Burg Giebichenstein in Halle begutachten. Während eines Semesterprojektes wurden Trink-\, Schank- und Serviergefäße aus Glas und Porzellan entwickelt.
URL:http://blog.evinum.de/event/jungweinprobe-weingut-thuerkind-2/
LOCATION:Neue Dorfstraße 9\, Gröst\, Sachsen-Anhalt\, 06632 \, Deutschland
GEO:51.25964;11.84579
X-APPLE-STRUCTURED-LOCATION;VALUE=URI;X-ADDRESS=Neue Dorfstraße 9 Gröst Sachsen-Anhalt 06632  Deutschland;X-APPLE-RADIUS=500;X-TITLE=Neue Dorfstraße 9:geo:11.84579,51.25964
CATEGORIES:Saale-Unstrut,Wein & Kulinarik,Wein & Kultur,Wein & Kunst,Weinevent,Weingut,Weinprobe
ATTACH;FMTTYPE=image/jpeg:http://blog.evinum.de/wp-content/uploads/2014/09/760x325_saale_unstrut.jpg
ORGANIZER;CN="Weingut%20Th%C3%BCrkind":MAILTO:info@weingut-thuerkind.de
END:VEVENT
END:VCALENDAR