BEGIN:VCALENDAR
VERSION:2.0
PRODID:-//#wine_passion - ECPv4.2.2//NONSGML v1.0//EN
CALSCALE:GREGORIAN
METHOD:PUBLISH
X-WR-CALNAME:#wine_passion
X-ORIGINAL-URL:http://blog.evinum.de
X-WR-CALDESC:Events for #wine_passion
BEGIN:VEVENT
DTSTART;TZID=Europe/Berlin:20150516T140000
DTEND;TZID=Europe/Berlin:20150517T000000
DTSTAMP:20260425T223938
CREATED:20150323T190120
LAST-MODIFIED:20150507T133044
UID:3199-1431784800-1431820800@blog.evinum.de
SUMMARY:Kellertage
DESCRIPTION:Genießen Sie im Schatten unserer alten Nussbäume bei einem Glas köstlichen Wein die frühlingshafte Mosellandschaft. Am Samstag\, 16. Mai ab 14 Uhr findet die traditionelle „Große Weinwanderung“ zu den teilnehmenden Weingütern statt (Dauer ca. 4 Stunden\, Treffpunkt vor der Kirche in Palzem). In jedem Weingut wird zu der Weinprobe jeweils auch ein kleiner Imbiss gereicht.
URL:http://blog.evinum.de/event/kellertage/
LOCATION:Palzem\, Rheinland-Pfalz\, 54439\, Deutschland
CATEGORIES:Mosel,Weinprobe,Weinwanderung
ATTACH;FMTTYPE=image/jpeg:http://blog.evinum.de/wp-content/uploads/2015/04/events_evinum_paar_weinberge.jpg
ORGANIZER;CN="Mosellandtouristik%20GmbH":MAILTO:info@mosellandtouristik.de
END:VEVENT
END:VCALENDAR