BEGIN:VCALENDAR
VERSION:2.0
PRODID:-//#wine_passion - ECPv4.2.2//NONSGML v1.0//EN
CALSCALE:GREGORIAN
METHOD:PUBLISH
X-WR-CALNAME:#wine_passion
X-ORIGINAL-URL:http://blog.evinum.de
X-WR-CALDESC:Events for #wine_passion
BEGIN:VEVENT
DTSTART;VALUE=DATE:20150821
DTEND;VALUE=DATE:20150823
DTSTAMP:20260421T101728
CREATED:20150723
LAST-MODIFIED:20150820
UID:7063-1440115200-1440374399@blog.evinum.de
SUMMARY:Kirchenburgweinfest
DESCRIPTION:Weinfeste und Hoffeste
URL:http://blog.evinum.de/event/kirchenburgweinfest/
LOCATION:vor der Kirchenburganlage\, Hüttenheim\, Bayern\, 97348\, Deutschland
CATEGORIES:Franken,Wein & Kulinarik,Wein & Musik,Weinausschank,Weinfest
ATTACH;FMTTYPE=image/jpeg:http://blog.evinum.de/wp-content/uploads/2015/05/events_evinum_weinfest.jpg
ORGANIZER;CN="G%C3%A4ste-Information%20Markt%20Willanzheim":MAILTO:info@willanzheim.de
END:VEVENT
END:VCALENDAR