BEGIN:VCALENDAR
VERSION:2.0
PRODID:-//#wine_passion - ECPv4.2.2//NONSGML v1.0//EN
CALSCALE:GREGORIAN
METHOD:PUBLISH
X-WR-CALNAME:#wine_passion
X-ORIGINAL-URL:http://blog.evinum.de
X-WR-CALDESC:Events for #wine_passion
BEGIN:VEVENT
DTSTART;VALUE=DATE:20150510
DTEND;VALUE=DATE:20150510
DTSTAMP:20260421T191017
CREATED:20150323
LAST-MODIFIED:20150501
UID:3116-1431216000-1431302399@blog.evinum.de
SUMMARY:Kirchheimer Weinterrasse
DESCRIPTION:Idylle pur! Genießen Sie den einzigartigen Blick auf die terrassierten Steillagen am Neckar in Kirchheim. Die Aussichtsplattform ist ein Kooperationsprojekt der Weingärtner Stromberg-Zabergäu und der Gemeindeverwaltung Kirchheim am Neckar.
URL:http://blog.evinum.de/event/kirchheimer-weinterrasse-2/
LOCATION:Parkmöglichkeiten: Obsthalle Kirchheim\, Im Kümmerling 1\, Kirchheim am Neckar\, Baden-Württemberg\, 74336\, Deutschland
GEO:49.0785978;9.0871344
X-APPLE-STRUCTURED-LOCATION;VALUE=URI;X-ADDRESS=Parkmöglichkeiten: Obsthalle Kirchheim Im Kümmerling 1 Kirchheim am Neckar Baden-Württemberg 74336 Deutschland;X-APPLE-RADIUS=500;X-TITLE=Parkmöglichkeiten: Obsthalle Kirchheim\, Im Kümmerling 1:geo:9.0871344,49.0785978
CATEGORIES:Württemberg
ATTACH;FMTTYPE=image/jpeg:http://blog.evinum.de/wp-content/uploads/2014/09/weintrauben_impressionen4.jpg
ORGANIZER;CN="Weinwerbung%20W%C3%BCrttemberg":MAILTO:info@wwg.de
END:VEVENT
END:VCALENDAR