BEGIN:VCALENDAR
VERSION:2.0
PRODID:-//#wine_passion - ECPv4.2.2//NONSGML v1.0//EN
CALSCALE:GREGORIAN
METHOD:PUBLISH
X-WR-CALNAME:#wine_passion
X-ORIGINAL-URL:http://blog.evinum.de
X-WR-CALDESC:Events for #wine_passion
BEGIN:VEVENT
DTSTART;VALUE=DATE:20151024
DTEND;VALUE=DATE:20151025
DTSTAMP:20260421T101630
CREATED:20150929
LAST-MODIFIED:20151025
UID:7878-1445644800-1445817599@blog.evinum.de
SUMMARY:Kostbare Tage - Ein Genusswochenende
DESCRIPTION:Weinbergsführung - Auf den Spuren des Winzers\, Frizzantebegrüßung und Weinverkostung
URL:http://blog.evinum.de/event/kostbare-tage-ein-genusswochenende-2/
LOCATION:auf Anfrage\, Sommerach\, Bayern\, 97334\, Deutschland
GEO:49.8431141;10.189506
X-APPLE-STRUCTURED-LOCATION;VALUE=URI;X-ADDRESS=auf Anfrage Sommerach Bayern 97334 Deutschland;X-APPLE-RADIUS=500;X-TITLE=auf Anfrage:geo:10.189506,49.8431141
CATEGORIES:Franken,Weinberge,Weinbergsführung,Weinevent,Weingut,Weinspaziergang,Weinverkostung,Winzergenossenschaft,Winzerhöfe
ATTACH;FMTTYPE=image/jpeg:http://blog.evinum.de/wp-content/uploads/2015/10/events_evinum_weinberge_herbst_hoerstein2.jpg
ORGANIZER;CN="Winzerkeller%20Sommerach%20eG":MAILTO:info@winzer-sommerach.de
END:VEVENT
END:VCALENDAR