BEGIN:VCALENDAR
VERSION:2.0
PRODID:-//#wine_passion - ECPv4.2.2//NONSGML v1.0//EN
CALSCALE:GREGORIAN
METHOD:PUBLISH
X-WR-CALNAME:#wine_passion
X-ORIGINAL-URL:http://blog.evinum.de
X-WR-CALDESC:Events for #wine_passion
BEGIN:VEVENT
DTSTART;TZID=Europe/Berlin:20150417T190000
DTEND;TZID=Europe/Berlin:20150417T190000
DTSTAMP:20260419T195005
CREATED:20150226T180424
LAST-MODIFIED:20150415T143337
UID:2405-1429297200-1429297200@blog.evinum.de
SUMMARY:Krimilesung auf dem Weingut Wagner
DESCRIPTION:Buchvorstellung "Winzersterben"; Anmeldung erforderlich.
URL:http://blog.evinum.de/event/krimilesung-auf-dem-weingut-wagner/
LOCATION:Hauptstraße 30\, Essenheim\, Rheinland-Pfalz\, 55270\, Deutschland
GEO:49.9321448;8.1593696
X-APPLE-STRUCTURED-LOCATION;VALUE=URI;X-ADDRESS=Hauptstraße 30 Essenheim Rheinland-Pfalz 55270 Deutschland;X-APPLE-RADIUS=500;X-TITLE=Hauptstraße 30:geo:8.1593696,49.9321448
CATEGORIES:Rheinhessen,Wein & Geschichte,Weingüter,Weinlesefest
ATTACH;FMTTYPE=image/jpeg:http://blog.evinum.de/wp-content/uploads/2015/02/events_evinum_krimi.jpg
ORGANIZER;CN="Weingut%20Wagner":MAILTO:info@wagner-wein.de
END:VEVENT
END:VCALENDAR