BEGIN:VCALENDAR
VERSION:2.0
PRODID:-//#wine_passion - ECPv4.2.2//NONSGML v1.0//EN
CALSCALE:GREGORIAN
METHOD:PUBLISH
X-WR-CALNAME:#wine_passion
X-ORIGINAL-URL:http://blog.evinum.de
X-WR-CALDESC:Events for #wine_passion
BEGIN:VEVENT
DTSTART;TZID=Europe/Berlin:20150501T110000
DTEND;TZID=Europe/Berlin:20150503T190000
DTSTAMP:20260423T121735
CREATED:20150323T185918
LAST-MODIFIED:20150423T161837
UID:2985-1430478000-1430679600@blog.evinum.de
SUMMARY:LagenKostBar
DESCRIPTION:Die Weinbaubetriebe des geschätzten Weinortes zeigen ihre Weine inmitten der Weinberge. Mit "LagenKostbar"; kulturelles Rahmenprogramm und kleine Gaumenfreuden.
URL:http://blog.evinum.de/event/lagenkostbar/
LOCATION:Forst\, Rheinland-Pfalz\, 67147\, Deutschland
GEO:49.4245854;8.1841103
CATEGORIES:Pfalz,Wein & Kulinarik,Weingüter,Weinwanderung
ATTACH;FMTTYPE=image/jpeg:http://blog.evinum.de/wp-content/uploads/2015/02/events_evinum_trauben.jpg
ORGANIZER;CN="Touristinformation%20Deidesheim":MAILTO:touristinfo@deidesheim.de
END:VEVENT
END:VCALENDAR