BEGIN:VCALENDAR
VERSION:2.0
PRODID:-//#wine_passion - ECPv4.2.2//NONSGML v1.0//EN
CALSCALE:GREGORIAN
METHOD:PUBLISH
X-WR-CALNAME:#wine_passion
X-ORIGINAL-URL:http://blog.evinum.de
X-WR-CALDESC:Events for #wine_passion
BEGIN:VEVENT
DTSTART;VALUE=DATE:20151009
DTEND;VALUE=DATE:20151009
DTSTAMP:20260419T195143
CREATED:20150929
LAST-MODIFIED:20151007
UID:7776-1444348800-1444435199@blog.evinum.de
SUMMARY:Lesung und Weinprobe in Bretten
DESCRIPTION:Wein und Kultur: Musik\, Kunst u.a.
URL:http://blog.evinum.de/event/lesung-und-weinprobe-in-bretten/
LOCATION:Untere Kirchgasse 5\, Bretten\, Baden-Württemberg\, 75015\, Deutschland
CATEGORIES:Baden,Wein & Kultur,Weinevent,Weinprobe
ATTACH;FMTTYPE=image/jpeg:http://blog.evinum.de/wp-content/uploads/2015/03/events_evinum_lesung2.jpg
ORGANIZER;CN="Tourist-Info%20Bretten":MAILTO:touristinfo@bretten.de
END:VEVENT
END:VCALENDAR