BEGIN:VCALENDAR
VERSION:2.0
PRODID:-//#wine_passion - ECPv4.2.2//NONSGML v1.0//EN
CALSCALE:GREGORIAN
METHOD:PUBLISH
X-WR-CALNAME:#wine_passion
X-ORIGINAL-URL:http://blog.evinum.de
X-WR-CALDESC:Events for #wine_passion
BEGIN:VEVENT
DTSTART;TZID=Europe/Berlin:20150621T170000
DTEND;TZID=Europe/Berlin:20150621T170000
DTSTAMP:20260422T090653
CREATED:20150428T102850
LAST-MODIFIED:20150701T165337
UID:4218-1434906000-1434906000@blog.evinum.de
SUMMARY:Lyrischer Spaziergang
DESCRIPTION:Mit kleiner Weinverkostung. H.kinkel@kuweibo-nahe.de
URL:http://blog.evinum.de/event/lyrischer-spaziergang-2/
LOCATION:auf Anfrage\, Bad Kreuznach\, Rheinland-Pfalz\, 55540\, Deutschland
CATEGORIES:Nahe
ATTACH;FMTTYPE=image/jpeg:http://blog.evinum.de/wp-content/uploads/2015/02/events_evinum_trauben_okt.jpg
ORGANIZER;CN="Kultur-%20und%20Weinbotschafter%20Nahe%20e.V.":MAILTO:info@kultur-und-weinbotschafter-nahe.de
END:VEVENT
END:VCALENDAR