BEGIN:VCALENDAR
VERSION:2.0
PRODID:-//#wine_passion - ECPv4.2.2//NONSGML v1.0//EN
CALSCALE:GREGORIAN
METHOD:PUBLISH
X-WR-CALNAME:#wine_passion
X-ORIGINAL-URL:http://blog.evinum.de
X-WR-CALDESC:Events for #wine_passion
BEGIN:VEVENT
DTSTART;TZID=Europe/Berlin:20150501T110000
DTEND;TZID=Europe/Berlin:20150501T210000
DTSTAMP:20260421T173848
CREATED:20150323T185916
LAST-MODIFIED:20150429T193102
UID:2978-1430478000-1430514000@blog.evinum.de
SUMMARY:Mai-Weinfest der Becksteiner Winzer eG
DESCRIPTION:Mai-Weinfest
URL:http://blog.evinum.de/event/mai-weinfest-der-becksteiner-winzer-eg/
LOCATION:Weinstraße 30\, Beckstein\, Baden-Württemberg\, 97922\, Deutschland
GEO:49.54661;9.70255
X-APPLE-STRUCTURED-LOCATION;VALUE=URI;X-ADDRESS=Weinstraße 30 Beckstein Baden-Württemberg 97922 Deutschland;X-APPLE-RADIUS=500;X-TITLE=Weinstraße 30:geo:9.70255,49.54661
CATEGORIES:Baden,Wein & Kulinarik,Wein & Musik,Weingüter,Winzerfest,Winzerverein
ATTACH;FMTTYPE=image/jpeg:http://blog.evinum.de/wp-content/uploads/2014/10/weintrauben_impressionen2_031014.jpg
ORGANIZER;CN="Becksteiner%20Winzer%20eG":MAILTO:info@becksteiner-winzer.de
END:VEVENT
END:VCALENDAR