BEGIN:VCALENDAR
VERSION:2.0
PRODID:-//#wine_passion - ECPv4.2.2//NONSGML v1.0//EN
CALSCALE:GREGORIAN
METHOD:PUBLISH
X-WR-CALNAME:#wine_passion
X-ORIGINAL-URL:http://blog.evinum.de
X-WR-CALDESC:Events for #wine_passion
BEGIN:VEVENT
DTSTART;VALUE=DATE:20160429
DTEND;VALUE=DATE:20160429
DTSTAMP:20260421T082914
CREATED:20160129
LAST-MODIFIED:20160428
UID:10218-1461888000-1461974399@blog.evinum.de
SUMMARY:Maibaumaufstellung mit Musik und gemütlicher Hocketse in Stuttgart
DESCRIPTION:Maibaumaufstellung mit Musik und gemütlicher Hocketse
URL:http://blog.evinum.de/event/maibaumaufstellung-mit-musik-und-gemuetlicher-hocketse-in-stuttgart/
LOCATION:Sillenbucher Straße 10\, Stuttgart\, Baden-Württemberg\, 70329\, Deutschland
GEO:48.75667;9.231201
X-APPLE-STRUCTURED-LOCATION;VALUE=URI;X-ADDRESS=Sillenbucher Straße 10 Stuttgart Baden-Württemberg 70329 Deutschland;X-APPLE-RADIUS=500;X-TITLE=Sillenbucher Straße 10:geo:9.231201,48.75667
CATEGORIES:Wein & Kulinarik,Wein & Musik,Weinfest,Württemberg
ATTACH;FMTTYPE=image/jpeg:http://blog.evinum.de/wp-content/uploads/2016/03/events_evinum_bluete_Weintrauben_Fruehling3.jpg
ORGANIZER;CN="GHV%20Oberer%20Neckar%2C%20Weing%C3%A4rtnergenossenschaft%20Rohracker%20eG":MAILTO:info@rae-wms.de
END:VEVENT
END:VCALENDAR