BEGIN:VCALENDAR
VERSION:2.0
PRODID:-//#wine_passion - ECPv4.2.2//NONSGML v1.0//EN
CALSCALE:GREGORIAN
METHOD:PUBLISH
X-WR-CALNAME:#wine_passion
X-ORIGINAL-URL:http://blog.evinum.de
X-WR-CALDESC:Events for #wine_passion
BEGIN:VEVENT
DTSTART;TZID=Europe/Berlin:20151106T190000
DTEND;TZID=Europe/Berlin:20151106T190000
DTSTAMP:20260424T080226
CREATED:20151016T142927
LAST-MODIFIED:20151018T151042
UID:8198-1446836400-1446836400@blog.evinum.de
SUMMARY:Martinsmarkt der regionalen Genüsse in Dernau
DESCRIPTION:Ein vorweihnachtlicher Markt mit einer Prise Weinfest steht auf dem Programm. Die Saison der stimmungsvollen Veranstaltungen wird in Dernau mit dem "Martinsmarkt der regionalen Genüsse“\, eröffnet. Winzerhöfe sind geöffnet und Freitag um 19.00Uhr können Sie an einer Fackelwanderung mit der Dagernova Weinmanufaktur durch die Weinberge teilnehmen. Neben den gastronomischen Ständen mit regionalen Köstlichkeiten\, die nur von Dernauer Bürgern betrieben werden \, Dernauer Weingüter mit besten Dernauer Weinen und kräftigen Obst- und Weinbränden\, präsentieren sich Zimmerer\, Tischler\, Kunstschmiede\, Schreiner\, Bäcker\, Imker\, Floristen\, Korbmacher und weitere Handwerksbetriebe. Daneben werden auch landwirtschaftliche Produkte angeboten. 
URL:http://blog.evinum.de/event/martinsmarkt-der-regionalen-genuesse-in-dernau/
LOCATION:Dernau\, Rheinland-Pfalz\, 53507\, Deutschland
GEO:50.5339098;7.045684
CATEGORIES:Ahr,Wein & Kulinarik,Wein & Musik,Weinausschank,Weinevent,Weinfest,Weingüter,Weinkerwe
ATTACH;FMTTYPE=image/jpeg:http://blog.evinum.de/wp-content/uploads/2015/05/events_evinum_fackel.jpg
ORGANIZER;CN="WeinKulturDorf%20Dernau%20e.V.":MAILTO:verkehrsverein@dernau.de
END:VEVENT
END:VCALENDAR