BEGIN:VCALENDAR
VERSION:2.0
PRODID:-//#wine_passion - ECPv4.2.2//NONSGML v1.0//EN
CALSCALE:GREGORIAN
METHOD:PUBLISH
X-WR-CALNAME:#wine_passion
X-ORIGINAL-URL:http://blog.evinum.de
X-WR-CALDESC:Events for #wine_passion
BEGIN:VEVENT
DTSTART;TZID=Europe/Berlin:20150419T110000
DTEND;TZID=Europe/Berlin:20150419T123000
DTSTAMP:20260419T174032
CREATED:20150226T180433
LAST-MODIFIED:20150415T142855
UID:2435-1429441200-1429446600@blog.evinum.de
SUMMARY:Matinee mit Dr. Daniel Deckers\, FAZ
DESCRIPTION:Buchvorstellung & Lesung\, Schloss Vollrads Herrenhaus
URL:http://blog.evinum.de/event/matinee-mit-dr-daniel-deckers-faz/
LOCATION:Vollradser Allee\, Oestrich-Winkel / Winkel\, Hessen\, 65375\, Deutschland
GEO:50.0083991;8.0010475
X-APPLE-STRUCTURED-LOCATION;VALUE=URI;X-ADDRESS=Vollradser Allee Oestrich-Winkel / Winkel Hessen 65375 Deutschland;X-APPLE-RADIUS=500;X-TITLE=Vollradser Allee:geo:8.0010475,50.0083991
CATEGORIES:Rheingau,Wein & Kultur
ATTACH;FMTTYPE=image/jpeg:http://blog.evinum.de/wp-content/uploads/2015/04/events_evinum_vollrads.jpg
ORGANIZER;CN="Schloss%20Vollrads":MAILTO:info@schlossvollrads.com
END:VEVENT
END:VCALENDAR