BEGIN:VCALENDAR
VERSION:2.0
PRODID:-//#wine_passion - ECPv4.2.2//NONSGML v1.0//EN
CALSCALE:GREGORIAN
METHOD:PUBLISH
X-WR-CALNAME:#wine_passion
X-ORIGINAL-URL:http://blog.evinum.de
X-WR-CALDESC:Events for #wine_passion
BEGIN:VEVENT
DTSTART;VALUE=DATE:20150605
DTEND;VALUE=DATE:20150607
DTSTAMP:20260419T142024
CREATED:20150428
LAST-MODIFIED:20150529
UID:4022-1433462400-1433721599@blog.evinum.de
SUMMARY:Mittelalterliche Winzertage in Steinbach
DESCRIPTION:Eröffnungsspiel auf den Kirchenstaffeln gegen 18.45 Uhr anschließend Umzug durchs Städtl\, begleitet vom Fanfarenzug Haueneberstein
URL:http://blog.evinum.de/event/mittelalterliche-winzertage-in-steinbach/
LOCATION:Lieser \, Rheinland-Pfalz\, 54470\, Deutschland
CATEGORIES:Baden,Wein & Kulinarik,Wein & Musik,Weinausschank,Weinevent,Winzerfest,Winzergenossenschaft
ATTACH;FMTTYPE=image/jpeg:http://blog.evinum.de/wp-content/uploads/2015/05/events_evinum_heuschober.jpg
ORGANIZER;CN="Badischer%20Wein%20GmbH":MAILTO:info@badischerwein.de
END:VEVENT
END:VCALENDAR