BEGIN:VCALENDAR
VERSION:2.0
PRODID:-//#wine_passion - ECPv4.2.2//NONSGML v1.0//EN
CALSCALE:GREGORIAN
METHOD:PUBLISH
X-WR-CALNAME:#wine_passion
X-ORIGINAL-URL:http://blog.evinum.de
X-WR-CALDESC:Events for #wine_passion
BEGIN:VEVENT
DTSTART;VALUE=DATE:20150828
DTEND;VALUE=DATE:20150906
DTSTAMP:20260421T172744
CREATED:20150723
LAST-MODIFIED:20150820
UID:7112-1440720000-1441583999@blog.evinum.de
SUMMARY:Moselfest mit Feuerwerk
DESCRIPTION:Ältestes Winzerfest Deutschlands. Feuerwerk zum Abschluss am Sonntag
URL:http://blog.evinum.de/event/moselfest-mit-feuerwerk/
LOCATION:Dorfplatz/Innenstadt/Weingüter\, Winningen\, Rheinland-Pfalz\, 56333\, Deutschland
GEO:50.3177194;7.5110293
X-APPLE-STRUCTURED-LOCATION;VALUE=URI;X-ADDRESS=Dorfplatz/Innenstadt/Weingüter Winningen Rheinland-Pfalz 56333 Deutschland;X-APPLE-RADIUS=500;X-TITLE=Dorfplatz/Innenstadt/Weingüter:geo:7.5110293,50.3177194
CATEGORIES:Mosel,Wein & Kulinarik,Weinausschank,Weinfest
ATTACH;FMTTYPE=image/jpeg:http://blog.evinum.de/wp-content/uploads/2015/05/events_evinum_feuerwerk.jpg
ORGANIZER;CN="Fremdenverkehrsverein%20Winningen":MAILTO:info@winningen.de
END:VEVENT
END:VCALENDAR