BEGIN:VCALENDAR
VERSION:2.0
PRODID:-//#wine_passion - ECPv4.2.2//NONSGML v1.0//EN
CALSCALE:GREGORIAN
METHOD:PUBLISH
X-WR-CALNAME:#wine_passion
X-ORIGINAL-URL:http://blog.evinum.de
X-WR-CALDESC:Events for #wine_passion
BEGIN:VEVENT
DTSTART;VALUE=DATE:20150710
DTEND;VALUE=DATE:20150713
DTSTAMP:20260421T142127
CREATED:20150621
LAST-MODIFIED:20150624
UID:4941-1436486400-1436831999@blog.evinum.de
SUMMARY:Moselfest Zurlauben
DESCRIPTION:Das traditionelle Moselfest im alten Fischer-Stadtteil Zurlauben punktet mit seiner schönen Außengastronomie direkt am Wasser und viel Live-Musik. Ein Höhepunkt ist das große Feuerwerk am Samstagabend\, das um 23 Uhr gezündet wird. Vorher stehen Nico Mono mit Band und Freu Dich feat. Klimaschock auf der Bühne. Am Sonntag findet ab 12 Uhr bis Mitternacht ein Festival elektronischer Musik statt\, unter anderem mit Lexy & K-Paul sowie Sascha Braemer. Das Musikprogramm wird um 20.30 Uhr unterbrochen\, um das WM-Finale Deutschland gegen Argentinien auf einer Großleinwand zu übertragen. Montagabend stehen Armadillo Squad und Mr. S and the Lotions auf der Bühne.
URL:http://blog.evinum.de/event/moselfest-zurlauben/
LOCATION:Trier \, Rheinland-Pfalz\, 54290\, Deutschland
CATEGORIES:Mosel,Wein & Kulinarik,Wein & Musik,Weinausschank,Weinevent,Weinfest
ATTACH;FMTTYPE=image/jpeg:http://blog.evinum.de/wp-content/uploads/2015/05/events_evinum_feuerwerk2.jpg
ORGANIZER;CN="Mosellandtouristik%20GmbH":MAILTO:info@mosellandtouristik.de
END:VEVENT
END:VCALENDAR