BEGIN:VCALENDAR
VERSION:2.0
PRODID:-//#wine_passion - ECPv4.2.2//NONSGML v1.0//EN
CALSCALE:GREGORIAN
METHOD:PUBLISH
X-WR-CALNAME:#wine_passion
X-ORIGINAL-URL:http://blog.evinum.de
X-WR-CALDESC:Events for #wine_passion
BEGIN:VEVENT
DTSTART;VALUE=DATE:20150731
DTEND;VALUE=DATE:20150803
DTSTAMP:20260423T090245
CREATED:20150702
LAST-MODIFIED:20150724
UID:6366-1438300800-1438646399@blog.evinum.de
SUMMARY:Olewiger Weinfest in Trier-Olewig 
DESCRIPTION:Weinfeste und Hoffeste
URL:http://blog.evinum.de/event/olewiger-weinfest-4/
LOCATION:auf Anfrage\, Trier-Olewig\, Rheinland-Pfalz\, 54296\, Deutschland
GEO:49.7288105;6.6820754
X-APPLE-STRUCTURED-LOCATION;VALUE=URI;X-ADDRESS=auf Anfrage Trier-Olewig Rheinland-Pfalz 54296 Deutschland;X-APPLE-RADIUS=500;X-TITLE=auf Anfrage:geo:6.6820754,49.7288105
CATEGORIES:Mosel,Wein & Kulinarik,Wein & Musik,Weinausschank,Weinfest
ATTACH;FMTTYPE=image/jpeg:http://blog.evinum.de/wp-content/uploads/2015/07/events_evinum_weinfest6.jpg
ORGANIZER;CN="Mosellandtouristik%20GmbH":MAILTO:info@mosellandtouristik.de
END:VEVENT
END:VCALENDAR