BEGIN:VCALENDAR
VERSION:2.0
PRODID:-//#wine_passion - ECPv4.2.2//NONSGML v1.0//EN
CALSCALE:GREGORIAN
METHOD:PUBLISH
X-WR-CALNAME:#wine_passion
X-ORIGINAL-URL:http://blog.evinum.de
X-WR-CALDESC:Events for #wine_passion
BEGIN:VEVENT
DTSTART;TZID=Europe/Berlin:20150808T140000
DTEND;TZID=Europe/Berlin:20150808T140000
DTSTAMP:20260419T173837
CREATED:20150702T140106
LAST-MODIFIED:20150805T093407
UID:6446-1439042400-1439042400@blog.evinum.de
SUMMARY:Paradiesische Weinprobe
DESCRIPTION:Heimatliches 3-Gänge-Menü\, Begrüßungs-Secco\, Weinprobe mit fantastischer Aussicht auf den Rhein\, Günderode Filmhaus Jungfernblick
URL:http://blog.evinum.de/event/paradiesische-weinprobe-2/
LOCATION:auf Anfrage\, Oberwesel \, Rheinland-Pfalz\, 55430\, Deutschland
GEO:50.0779277;7.6934274
X-APPLE-STRUCTURED-LOCATION;VALUE=URI;X-ADDRESS=auf Anfrage Oberwesel  Rheinland-Pfalz 55430 Deutschland;X-APPLE-RADIUS=500;X-TITLE=auf Anfrage:geo:7.6934274,50.0779277
CATEGORIES:Mittelrhein,Weinevent,Weinverkostung
ATTACH;FMTTYPE=image/jpeg:http://blog.evinum.de/wp-content/uploads/2014/09/760x325_mittelrhein.jpg
ORGANIZER;CN="Herrgottsgarten%2C%20Berges-Kitzer%20%26%20Schneider%20GbR":MAILTO:kontakt@herrgottsgarten.de
END:VEVENT
END:VCALENDAR