BEGIN:VCALENDAR
VERSION:2.0
PRODID:-//#wine_passion - ECPv4.2.2//NONSGML v1.0//EN
CALSCALE:GREGORIAN
METHOD:PUBLISH
X-WR-CALNAME:#wine_passion
X-ORIGINAL-URL:http://blog.evinum.de
X-WR-CALDESC:Events for #wine_passion
BEGIN:VEVENT
DTSTART;TZID=Europe/Berlin:20151009T190000
DTEND;TZID=Europe/Berlin:20151009T190000
DTSTAMP:20260422T085348
CREATED:20150929T200800
LAST-MODIFIED:20150930T161532
UID:7774-1444417200-1444417200@blog.evinum.de
SUMMARY:Pasta-Saucen-Rendezvous in Sasbach/Ortenau
DESCRIPTION:Kulinarisches und Wein
URL:http://blog.evinum.de/event/pasta-saucen-rendezvous-in-sasbachortenau/
LOCATION:Am Rebbuckel 38\, Sasbach\, Baden-Württemberg\, 77880\, Deutschland
GEO:48.64062;8.08782
X-APPLE-STRUCTURED-LOCATION;VALUE=URI;X-ADDRESS=Am Rebbuckel 38 Sasbach Baden-Württemberg 77880 Deutschland;X-APPLE-RADIUS=500;X-TITLE=Am Rebbuckel 38:geo:8.08782,48.64062
CATEGORIES:Baden,Wein & Kulinarik,Weinverkostung
ATTACH;FMTTYPE=image/jpeg:http://blog.evinum.de/wp-content/uploads/2015/04/events_evinum_spaghetti_rot.jpg
ORGANIZER;CN="Weingeister%20aus%20der%20Ortenau":MAILTO:info@weingeister-ortenau.de
END:VEVENT
END:VCALENDAR