BEGIN:VCALENDAR
VERSION:2.0
PRODID:-//#wine_passion - ECPv4.2.2//NONSGML v1.0//EN
CALSCALE:GREGORIAN
METHOD:PUBLISH
X-WR-CALNAME:#wine_passion
X-ORIGINAL-URL:http://blog.evinum.de
X-WR-CALDESC:Events for #wine_passion
BEGIN:VEVENT
DTSTART;TZID=Europe/Berlin:20160909T180000
DTEND;TZID=Europe/Berlin:20160909T180000
DTSTAMP:20260423T103807
CREATED:20160121T094119
LAST-MODIFIED:20160307T131022
UID:9410-1473444000-1473444000@blog.evinum.de
SUMMARY:Pinker Abend mit DJ UFO in Hammelburg
DESCRIPTION:Rote Drinks in einer roten Bar\, begleitet von Soul\, Funk\, Rhythem & Blues.
URL:http://blog.evinum.de/event/pinker-abend-mit-dj-ufo-in-hammelburg-2/
LOCATION:Kissinger Str.24\, Hammelburg\, Bayern\, 97762\, Deutschland
GEO:50.1153928;9.8928233
X-APPLE-STRUCTURED-LOCATION;VALUE=URI;X-ADDRESS=Kissinger Str.24 Hammelburg Bayern 97762 Deutschland;X-APPLE-RADIUS=500;X-TITLE=Kissinger Str.24:geo:9.8928233,50.1153928
CATEGORIES:Franken
ATTACH;FMTTYPE=image/jpeg:http://blog.evinum.de/wp-content/uploads/2016/03/events_evinum_cocktail_pink.jpg
END:VEVENT
END:VCALENDAR