BEGIN:VCALENDAR
VERSION:2.0
PRODID:-//#wine_passion - ECPv4.2.2//NONSGML v1.0//EN
CALSCALE:GREGORIAN
METHOD:PUBLISH
X-WR-CALNAME:#wine_passion
X-ORIGINAL-URL:http://blog.evinum.de
X-WR-CALDESC:Events for #wine_passion
BEGIN:VEVENT
DTSTART;VALUE=DATE:20150605
DTEND;VALUE=DATE:20150605
DTSTAMP:20260419T174022
CREATED:20150428
LAST-MODIFIED:20150529
UID:4023-1433462400-1433548799@blog.evinum.de
SUMMARY:Rebblütenfest und Wanderung
DESCRIPTION:Weinberg\, Gut und Keller erleben
URL:http://blog.evinum.de/event/rebbluetenfest-und-wanderung/
LOCATION:Lieser \, Rheinland-Pfalz\, 54470\, Deutschland
CATEGORIES:Baden,Wein & Kulinarik,Wein & Musik,Weinausschank,Weinfest,Weinwanderung
ATTACH;FMTTYPE=image/jpeg:http://blog.evinum.de/wp-content/uploads/2015/02/events_evinum_trauben_okt2.jpg
ORGANIZER;CN="Badischer%20Wein%20GmbH":MAILTO:info@badischerwein.de
END:VEVENT
END:VCALENDAR