BEGIN:VCALENDAR
VERSION:2.0
PRODID:-//#wine_passion - ECPv4.2.2//NONSGML v1.0//EN
CALSCALE:GREGORIAN
METHOD:PUBLISH
X-WR-CALNAME:#wine_passion
X-ORIGINAL-URL:http://blog.evinum.de
X-WR-CALDESC:Events for #wine_passion
BEGIN:VEVENT
DTSTART;TZID=Europe/Berlin:20151107T130000
DTEND;TZID=Europe/Berlin:20151107T130000
DTSTAMP:20260423T233207
CREATED:20151022T153409
LAST-MODIFIED:20151023T102825
UID:8399-1446901200-1446901200@blog.evinum.de
SUMMARY:Rheingau Open  auf Schloss Johannisberg in  Geisenheim
DESCRIPTION:Jahrespräsentation der Rheingauer VDP-Weingüter auf Schloss Johannisberg. Mit Winzern aus verschiedenen Gastregionen.
URL:http://blog.evinum.de/event/rheingau-open-in-geisenheim/
LOCATION:B42 an der Ausfahrt Geisenheim\, Geisenheim\, Hessen\, 65366\, Deutschland
GEO:50.0247217;7.9454618
X-APPLE-STRUCTURED-LOCATION;VALUE=URI;X-ADDRESS=B42 an der Ausfahrt Geisenheim Geisenheim Hessen 65366 Deutschland;X-APPLE-RADIUS=500;X-TITLE=B42 an der Ausfahrt Geisenheim:geo:7.9454618,50.0247217
CATEGORIES:Rheingau,Schloss,Schlosspark,Weinpräsentation,Weinprobe,Weinverkostung,Winzergenossenschaft,Winzerverein
ATTACH;FMTTYPE=image/jpeg:http://blog.evinum.de/wp-content/uploads/2015/04/events_evinum_dorf_tor.jpg
ORGANIZER;CN="VDP.Rheingau":MAILTO:vdp-rheingau@t-online.de
END:VEVENT
END:VCALENDAR