BEGIN:VCALENDAR
VERSION:2.0
PRODID:-//#wine_passion - ECPv4.2.2//NONSGML v1.0//EN
CALSCALE:GREGORIAN
METHOD:PUBLISH
X-WR-CALNAME:#wine_passion
X-ORIGINAL-URL:http://blog.evinum.de
X-WR-CALDESC:Events for #wine_passion
BEGIN:VEVENT
DTSTART;TZID=Europe/Berlin:20160305T180000
DTEND;TZID=Europe/Berlin:20160305T180000
DTSTAMP:20260421T085306
CREATED:20160129T152158
LAST-MODIFIED:20160222T175248
UID:10291-1457200800-1457200800@blog.evinum.de
SUMMARY:Schokolade & Wein im Klosterhof Lösch
DESCRIPTION:Eines sollte man in jedem Fall immer beachten: der menschliche Gaumen ist so einzigartig wie jeder Weinjahrgang und jede Schokoladenkomposition. Im Vordergrund steht die Freude am Probieren - es gibt kein absolutes "Richtig" oder "Falsch". Der Phantasie sind keine Grenzen gesetzt. Ergründen Sie neue und Individuelle Geschmackserlebnisse. Entdecken Sie neue Facetten Ihres Lieblingsweines in Kombination mit den süßen Genüssen. Weine vom Klosterhof Lösch und süsse Köstlichkeiten von Holzderber verwöhnen Ihren Gaumen. Für einen wahrhaft amüsanten Abend sorgt Christoph Lösch.
URL:http://blog.evinum.de/event/schokolade-wein-im-klosterhof-loesch-4/
LOCATION:Kirschgartenstraße 4\, Worms-Abenheim\, Rheinland-Pfalz\, 67550\, Deutschland
GEO:49.67602;8.28235
X-APPLE-STRUCTURED-LOCATION;VALUE=URI;X-ADDRESS=Kirschgartenstraße 4 Worms-Abenheim Rheinland-Pfalz 67550 Deutschland;X-APPLE-RADIUS=500;X-TITLE=Kirschgartenstraße 4:geo:8.28235,49.67602
CATEGORIES:Rheinhessen
ATTACH;FMTTYPE=image/jpeg:http://blog.evinum.de/wp-content/uploads/2015/10/events_evinum_schokolade2.jpg
ORGANIZER;CN="Herrgottsgarten%2C%20Berges-Kitzer%20%26%20Schneider%20GbR":MAILTO:kontakt@herrgottsgarten.de
END:VEVENT
END:VCALENDAR