BEGIN:VCALENDAR
VERSION:2.0
PRODID:-//#wine_passion - ECPv4.2.2//NONSGML v1.0//EN
CALSCALE:GREGORIAN
METHOD:PUBLISH
X-WR-CALNAME:#wine_passion
X-ORIGINAL-URL:http://blog.evinum.de
X-WR-CALDESC:Events for #wine_passion
BEGIN:VEVENT
DTSTART;TZID=Europe/Berlin:20151031T150000
DTEND;TZID=Europe/Berlin:20151031T150000
DTSTAMP:20260423T103737
CREATED:20150929T200811
LAST-MODIFIED:20151019T150725
UID:7915-1446303600-1446303600@blog.evinum.de
SUMMARY:Schokolade & Wein in Mainz
DESCRIPTION:Uni Mainz\, Gewölbekeller\, inkl. Schokolade\, Wein\, Brot\, Kursunterlagen
URL:http://blog.evinum.de/event/schokolade-wein-in-mainz/
LOCATION:Jakob-Welder-Weg 9\, Mainz-Bretzenheim\, Rheinland-Pfalz\, 55128\, Deutschland
CATEGORIES:Rheinhessen,Weinevent
ATTACH;FMTTYPE=image/jpeg:http://blog.evinum.de/wp-content/uploads/2015/03/events_evinum_schokolade_wein.jpg
ORGANIZER;CN="Kultur-%20und%20Weinbotschafter%20Rheinhessen%20e.V.":MAILTO:info@kultur-und-weinbotschafter-rheinhessen.de
END:VEVENT
END:VCALENDAR