BEGIN:VCALENDAR
VERSION:2.0
PRODID:-//#wine_passion - ECPv4.2.2//NONSGML v1.0//EN
CALSCALE:GREGORIAN
METHOD:PUBLISH
X-WR-CALNAME:#wine_passion
X-ORIGINAL-URL:http://blog.evinum.de
X-WR-CALDESC:Events for #wine_passion
BEGIN:VEVENT
DTSTART;TZID=Europe/Berlin:20150717T190000
DTEND;TZID=Europe/Berlin:20150718T013000
DTSTAMP:20260422T134455
CREATED:20150702T140044
LAST-MODIFIED:20150713T172231
UID:6195-1437159600-1437183000@blog.evinum.de
SUMMARY:Schräge WeinNacht
DESCRIPTION:Ein außergewöhnliches "schräges" Weinfest direkt unter den berühmten Felsengärten. Kulinarisches\, T 2.0 Cocktailbar\, Livemusik und Feuerwerk (Samstag)
URL:http://blog.evinum.de/event/schraege-weinnacht-2/
LOCATION:Wurmbergweg\, Hessigheim\, Baden-Württemberg\, 74354\, Deutschland
GEO:48.9966629;9.1575486
X-APPLE-STRUCTURED-LOCATION;VALUE=URI;X-ADDRESS=Wurmbergweg Hessigheim Baden-Württemberg 74354 Deutschland;X-APPLE-RADIUS=500;X-TITLE=Wurmbergweg:geo:9.1575486,48.9966629
CATEGORIES:Wein & Kulinarik,Wein & Musik,Weinevent,Württemberg
ATTACH;FMTTYPE=image/jpeg:http://blog.evinum.de/wp-content/uploads/2015/05/events_evinum_feuerwerk.jpg
ORGANIZER;CN="Felsengartenkellerei%20Besigheim%20eG":MAILTO:info@felsengartenkellerei.de
END:VEVENT
END:VCALENDAR