BEGIN:VCALENDAR
VERSION:2.0
PRODID:-//#wine_passion - ECPv4.2.2//NONSGML v1.0//EN
CALSCALE:GREGORIAN
METHOD:PUBLISH
X-WR-CALNAME:#wine_passion
X-ORIGINAL-URL:http://blog.evinum.de
X-WR-CALDESC:Events for #wine_passion
BEGIN:VEVENT
DTSTART;TZID=Europe/Berlin:20150501T110000
DTEND;TZID=Europe/Berlin:20150501T180000
DTSTAMP:20260421T204416
CREATED:20150323T185917
LAST-MODIFIED:20150429T194151
UID:2981-1430478000-1430503200@blog.evinum.de
SUMMARY:"Schwandertag"
DESCRIPTION:Weinbergswanderung rund um den Schwanberg mit kulinarischen Stationen.
URL:http://blog.evinum.de/event/schwandertag/
LOCATION:Iphofen\, Bayern\, 97346\, Deutschland
GEO:49.6712036;10.3220783
CATEGORIES:Franken,Wein & Kulinarik,Weinwanderung
ATTACH;FMTTYPE=image/jpeg:http://blog.evinum.de/wp-content/uploads/2015/04/events_evinum_weinprobe_berge.jpg
ORGANIZER;CN="Tourist%20Information%20Iphofen":MAILTO:tourist@iphofen.de
END:VEVENT
END:VCALENDAR