BEGIN:VCALENDAR
VERSION:2.0
PRODID:-//#wine_passion - ECPv4.2.2//NONSGML v1.0//EN
CALSCALE:GREGORIAN
METHOD:PUBLISH
X-WR-CALNAME:#wine_passion
X-ORIGINAL-URL:http://blog.evinum.de
X-WR-CALDESC:Events for #wine_passion
BEGIN:VEVENT
DTSTART;TZID=Europe/Berlin:20150705T130000
DTEND;TZID=Europe/Berlin:20150705T130000
DTSTAMP:20260422T004706
CREATED:20150428T102907
LAST-MODIFIED:20150701T165348
UID:4295-1436101200-1436101200@blog.evinum.de
SUMMARY:Segway-Tour durch die Weinberge
DESCRIPTION:Erleben Sie bei einer Lembergerland-Segwaytour unsere Kulturlandschaft in rasanter Geschwindigkeit auf Rädern. Steuern Sie dieses einachsige Elektrogerät nur mit Gewichtsverlagerung und schweben Sie geräuschlos durch unsere Weinlandschaft. Nach einer eindrucksvollen Fahrt entschleunigen wir dieses Erlebnis gemeinsam mit einem kleinen Vesper und einer Weinprobe. Ein dreistündiges Erlebnis inkl. Vesper und Weinprobe\, Mindestalter 16 Jahre
URL:http://blog.evinum.de/event/segway-tour-durch-die-weinberge-4/
LOCATION:Hagenrainstr. 24\, Roßwag-Mühlhausen\, Baden-Württemberg\, 71665\, Deutschland
GEO:48.9456327;8.9670738
X-APPLE-STRUCTURED-LOCATION;VALUE=URI;X-ADDRESS=Hagenrainstr. 24 Roßwag-Mühlhausen Baden-Württemberg 71665 Deutschland;X-APPLE-RADIUS=500;X-TITLE=Hagenrainstr. 24:geo:8.9670738,48.9456327
CATEGORIES:Württemberg
ATTACH;FMTTYPE=image/jpeg:http://blog.evinum.de/wp-content/uploads/2015/04/events_evinum_segway.jpg
ORGANIZER;CN="Genossenschaftskellerei%20Rosswag-M%C3%BChlhausen%20eG":MAILTO:info@wein-rosswag.de
END:VEVENT
END:VCALENDAR