BEGIN:VCALENDAR
VERSION:2.0
PRODID:-//#wine_passion - ECPv4.2.2//NONSGML v1.0//EN
CALSCALE:GREGORIAN
METHOD:PUBLISH
X-WR-CALNAME:#wine_passion
X-ORIGINAL-URL:http://blog.evinum.de
X-WR-CALDESC:Events for #wine_passion
BEGIN:VEVENT
DTSTART;TZID=Europe/Berlin:20150614T120000
DTEND;TZID=Europe/Berlin:20150614T120000
DTSTAMP:20260421T082526
CREATED:20150428T102837
LAST-MODIFIED:20150617T165632
UID:4148-1434283200-1434283200@blog.evinum.de
SUMMARY:Spargelessen im Weinberg
DESCRIPTION:Beim Spargelessen im Weinberg werden die Besucher an einer langen und edlen Tafel mit einem 3-Gänge Menü aus fränkischem Spargel von Chefkoch Jan Kirchoff des Hotels Ullrich verwöhnt. Dazu genießt man fränkische Weißweine wie zum Beispiel den "777" Silvaner.
URL:http://blog.evinum.de/event/spargelessen-im-weinberg/
LOCATION:August-Ullrich-Straße 40-42\, Elfershausen\, Bayern\, 97725\, Deutschland
GEO:50.1438;9.96537
X-APPLE-STRUCTURED-LOCATION;VALUE=URI;X-ADDRESS=August-Ullrich-Straße 40-42 Elfershausen Bayern 97725 Deutschland;X-APPLE-RADIUS=500;X-TITLE=August-Ullrich-Straße 40-42:geo:9.96537,50.1438
CATEGORIES:Franken
ATTACH;FMTTYPE=image/jpeg:http://blog.evinum.de/wp-content/uploads/2015/05/events_evinum_spargel.jpg
ORGANIZER;CN="Frankens%20Saalest%C3%BCck":MAILTO:info@frankens-saalestueck.de
END:VEVENT
END:VCALENDAR