BEGIN:VCALENDAR
VERSION:2.0
PRODID:-//#wine_passion - ECPv4.2.2//NONSGML v1.0//EN
CALSCALE:GREGORIAN
METHOD:PUBLISH
X-WR-CALNAME:#wine_passion
X-ORIGINAL-URL:http://blog.evinum.de
X-WR-CALDESC:Events for #wine_passion
BEGIN:VEVENT
DTSTART;TZID=Europe/Berlin:20151106T180000
DTEND;TZID=Europe/Berlin:20151111T000000
DTSTAMP:20260424T130308
CREATED:20151022T153410
LAST-MODIFIED:20151023T101437
UID:8411-1446832800-1447200000@blog.evinum.de
SUMMARY:St. Martinus Weinfest mit Lampionumzug
DESCRIPTION:Neben dem Laien-Schauspiel\, der Verlosung der Gänsemenüs und der Pferdesegnung sind die Martinus-Prozession und der Lampion-Umzug am 11.11. immer die Höhepunkte des Festes. Mit St. Martins-Umzug und Pferdesegnung.
URL:http://blog.evinum.de/event/st-martinus-weinfest/
LOCATION:Ortskern\, St. Martin\, Rheinland-Pfalz\, 67487\, Deutschland
GEO:49.3124434;8.0715689
X-APPLE-STRUCTURED-LOCATION;VALUE=URI;X-ADDRESS=Ortskern St. Martin Rheinland-Pfalz 67487 Deutschland;X-APPLE-RADIUS=500;X-TITLE=Ortskern:geo:8.0715689,49.3124434
CATEGORIES:Pfalz,Wein & Kulinarik,Wein & Musik,Weinausschank,Weinevent,Weinfest,Weinmarkt
ATTACH;FMTTYPE=image/jpeg:http://blog.evinum.de/wp-content/uploads/2015/02/events_evinum_kerzen_reihe.jpg
ORGANIZER;CN="B%C3%BCro%20f%C3%BCr%20Tourismus%20Maikammer":MAILTO:maikammer@maikammer-erlebnisland.de
END:VEVENT
END:VCALENDAR